BEGIN:VCALENDAR
VERSION:2.0
PRODID:-//eventon.com NONSGML v1.0//EN
CALSCALE:GREGORIAN
METHOD:PUBLISH
BEGIN:VEVENT
UID:69e7622c3ee34
DTSTAMP:20260421T124028
DTSTART:20260423T190000Z
DTEND:20260423T203000Z
TZID:Europe/London
LOCATION:Grove Road Evangelical Church 
SUMMARY:AGM
DESCRIPTION: \nhttps://www.chelmsfordpres.org.uk/events/agm/
URL:https://www.chelmsfordpres.org.uk/events/agm/
END:VEVENT
END:VCALENDAR