BEGIN:VCALENDAR
VERSION:2.0
PRODID:-//eventon.com NONSGML v1.0//EN
CALSCALE:GREGORIAN
METHOD:PUBLISH
BEGIN:VEVENT
UID:69e7608fe26d1
DTSTAMP:20260421T123335
DTSTART:20260426T100000Z
DTEND:20260426T110000Z
TZID:Europe/London
LOCATION:Anglia Ruskin University\,  Marconi Building 
SUMMARY:Sunday Morning Service
DESCRIPTION: \nhttps://www.chelmsfordpres.org.uk/events/sunday-morning-service-16/
URL:https://www.chelmsfordpres.org.uk/events/sunday-morning-service-16/
END:VEVENT
END:VCALENDAR