BEGIN:VCALENDAR
VERSION:2.0
PRODID:-//eventon.com NONSGML v1.0//EN
CALSCALE:GREGORIAN
METHOD:PUBLISH
BEGIN:VEVENT
UID:69e7847076b47
DTSTAMP:20260421T150640
DTSTART:20260503T100000Z
DTEND:20260503T110000Z
TZID:Europe/London
LOCATION:Anglia Ruskin University\,  Marconi Building 
SUMMARY:Sunday Morning Service
DESCRIPTION: \nhttps://www.chelmsfordpres.org.uk/events/sunday-morning-service-16/var/ri-1.l-L1
URL:https://www.chelmsfordpres.org.uk/events/sunday-morning-service-16/var/ri-1.l-L1
END:VEVENT
END:VCALENDAR